BEGIN:VCALENDAR
VERSION:2.0
PRODID:-//Emmaus Baptist Church - ECPv6.15.13//NONSGML v1.0//EN
CALSCALE:GREGORIAN
METHOD:PUBLISH
X-WR-CALNAME:Emmaus Baptist Church
X-ORIGINAL-URL:https://emmausbaptist.com
X-WR-CALDESC:Events for Emmaus Baptist Church
REFRESH-INTERVAL;VALUE=DURATION:PT1H
X-Robots-Tag:noindex
X-PUBLISHED-TTL:PT1H
BEGIN:VTIMEZONE
TZID:UTC
BEGIN:STANDARD
TZOFFSETFROM:+0000
TZOFFSETTO:+0000
TZNAME:UTC
DTSTART:20250101T000000
END:STANDARD
END:VTIMEZONE
BEGIN:VEVENT
DTSTART;TZID=UTC:20260425T090000
DTEND;TZID=UTC:20260425T110000
DTSTAMP:20260423T135943
CREATED:20170706T030306Z
LAST-MODIFIED:20170706T030306Z
UID:3644-1777107600-1777114800@emmausbaptist.com
SUMMARY:Choir Rehearsal
DESCRIPTION:
URL:https://emmausbaptist.com/event/choir-rehearsal-2026-04-25/
LOCATION:Emmaus Baptist Church\, 2104 Sandy Hook Road\, Goochland\, VA\, 23063\, United States
ATTACH;FMTTYPE=image/jpeg:https://emmausbaptist.com/wp-content/uploads/2017/07/download.jpg
END:VEVENT
BEGIN:VEVENT
DTSTART;TZID=UTC:20260426T100000
DTEND;TZID=UTC:20260426T120000
DTSTAMP:20260423T135943
CREATED:20170706T025654Z
LAST-MODIFIED:20170706T025654Z
UID:3645-1777197600-1777204800@emmausbaptist.com
SUMMARY:Morning Worship Service
DESCRIPTION:
URL:https://emmausbaptist.com/event/morning-worship-service-2017-10-08-2026-04-26/
LOCATION:Emmaus Baptist Church\, 2104 Sandy Hook Road\, Goochland\, VA\, 23063\, United States
ATTACH;FMTTYPE=image/jpeg:https://emmausbaptist.com/wp-content/uploads/2017/07/images.jpg
END:VEVENT
BEGIN:VEVENT
DTSTART;TZID=UTC:20260502T090000
DTEND;TZID=UTC:20260502T110000
DTSTAMP:20260423T135943
CREATED:20170706T030306Z
LAST-MODIFIED:20170706T030306Z
UID:3646-1777712400-1777719600@emmausbaptist.com
SUMMARY:Choir Rehearsal
DESCRIPTION:
URL:https://emmausbaptist.com/event/choir-rehearsal-2026-05-02/
LOCATION:Emmaus Baptist Church\, 2104 Sandy Hook Road\, Goochland\, VA\, 23063\, United States
ATTACH;FMTTYPE=image/jpeg:https://emmausbaptist.com/wp-content/uploads/2017/07/download.jpg
END:VEVENT
BEGIN:VEVENT
DTSTART;TZID=UTC:20260503T100000
DTEND;TZID=UTC:20260503T120000
DTSTAMP:20260423T135943
CREATED:20170706T025654Z
LAST-MODIFIED:20170706T025654Z
UID:3647-1777802400-1777809600@emmausbaptist.com
SUMMARY:Morning Worship Service
DESCRIPTION:
URL:https://emmausbaptist.com/event/morning-worship-service-2017-10-08-2026-05-03/
LOCATION:Emmaus Baptist Church\, 2104 Sandy Hook Road\, Goochland\, VA\, 23063\, United States
ATTACH;FMTTYPE=image/jpeg:https://emmausbaptist.com/wp-content/uploads/2017/07/images.jpg
END:VEVENT
BEGIN:VEVENT
DTSTART;TZID=UTC:20260509T090000
DTEND;TZID=UTC:20260509T110000
DTSTAMP:20260423T135943
CREATED:20170706T030306Z
LAST-MODIFIED:20170706T030306Z
UID:3648-1778317200-1778324400@emmausbaptist.com
SUMMARY:Choir Rehearsal
DESCRIPTION:
URL:https://emmausbaptist.com/event/choir-rehearsal-2026-05-09/
LOCATION:Emmaus Baptist Church\, 2104 Sandy Hook Road\, Goochland\, VA\, 23063\, United States
ATTACH;FMTTYPE=image/jpeg:https://emmausbaptist.com/wp-content/uploads/2017/07/download.jpg
END:VEVENT
BEGIN:VEVENT
DTSTART;TZID=UTC:20260510T100000
DTEND;TZID=UTC:20260510T120000
DTSTAMP:20260423T135943
CREATED:20170706T025654Z
LAST-MODIFIED:20170706T025654Z
UID:3649-1778407200-1778414400@emmausbaptist.com
SUMMARY:Morning Worship Service
DESCRIPTION:
URL:https://emmausbaptist.com/event/morning-worship-service-2017-10-08-2026-05-10/
LOCATION:Emmaus Baptist Church\, 2104 Sandy Hook Road\, Goochland\, VA\, 23063\, United States
ATTACH;FMTTYPE=image/jpeg:https://emmausbaptist.com/wp-content/uploads/2017/07/images.jpg
END:VEVENT
BEGIN:VEVENT
DTSTART;TZID=UTC:20260516T090000
DTEND;TZID=UTC:20260516T110000
DTSTAMP:20260423T135943
CREATED:20170706T030306Z
LAST-MODIFIED:20170706T030306Z
UID:3650-1778922000-1778929200@emmausbaptist.com
SUMMARY:Choir Rehearsal
DESCRIPTION:
URL:https://emmausbaptist.com/event/choir-rehearsal-2026-05-16/
LOCATION:Emmaus Baptist Church\, 2104 Sandy Hook Road\, Goochland\, VA\, 23063\, United States
ATTACH;FMTTYPE=image/jpeg:https://emmausbaptist.com/wp-content/uploads/2017/07/download.jpg
END:VEVENT
BEGIN:VEVENT
DTSTART;TZID=UTC:20260517T100000
DTEND;TZID=UTC:20260517T120000
DTSTAMP:20260423T135943
CREATED:20170706T025654Z
LAST-MODIFIED:20170706T025654Z
UID:3651-1779012000-1779019200@emmausbaptist.com
SUMMARY:Morning Worship Service
DESCRIPTION:
URL:https://emmausbaptist.com/event/morning-worship-service-2017-10-08-2026-05-17/
LOCATION:Emmaus Baptist Church\, 2104 Sandy Hook Road\, Goochland\, VA\, 23063\, United States
ATTACH;FMTTYPE=image/jpeg:https://emmausbaptist.com/wp-content/uploads/2017/07/images.jpg
END:VEVENT
BEGIN:VEVENT
DTSTART;TZID=UTC:20260523T090000
DTEND;TZID=UTC:20260523T110000
DTSTAMP:20260423T135943
CREATED:20170706T030306Z
LAST-MODIFIED:20170706T030306Z
UID:3652-1779526800-1779534000@emmausbaptist.com
SUMMARY:Choir Rehearsal
DESCRIPTION:
URL:https://emmausbaptist.com/event/choir-rehearsal-2026-05-23/
LOCATION:Emmaus Baptist Church\, 2104 Sandy Hook Road\, Goochland\, VA\, 23063\, United States
ATTACH;FMTTYPE=image/jpeg:https://emmausbaptist.com/wp-content/uploads/2017/07/download.jpg
END:VEVENT
BEGIN:VEVENT
DTSTART;TZID=UTC:20260524T100000
DTEND;TZID=UTC:20260524T120000
DTSTAMP:20260423T135943
CREATED:20170706T025654Z
LAST-MODIFIED:20170706T025654Z
UID:3653-1779616800-1779624000@emmausbaptist.com
SUMMARY:Morning Worship Service
DESCRIPTION:
URL:https://emmausbaptist.com/event/morning-worship-service-2017-10-08-2026-05-24/
LOCATION:Emmaus Baptist Church\, 2104 Sandy Hook Road\, Goochland\, VA\, 23063\, United States
ATTACH;FMTTYPE=image/jpeg:https://emmausbaptist.com/wp-content/uploads/2017/07/images.jpg
END:VEVENT
BEGIN:VEVENT
DTSTART;TZID=UTC:20260530T090000
DTEND;TZID=UTC:20260530T110000
DTSTAMP:20260423T135943
CREATED:20170706T030306Z
LAST-MODIFIED:20170706T030306Z
UID:3654-1780131600-1780138800@emmausbaptist.com
SUMMARY:Choir Rehearsal
DESCRIPTION:
URL:https://emmausbaptist.com/event/choir-rehearsal-2026-05-30/
LOCATION:Emmaus Baptist Church\, 2104 Sandy Hook Road\, Goochland\, VA\, 23063\, United States
ATTACH;FMTTYPE=image/jpeg:https://emmausbaptist.com/wp-content/uploads/2017/07/download.jpg
END:VEVENT
BEGIN:VEVENT
DTSTART;TZID=UTC:20260531T100000
DTEND;TZID=UTC:20260531T120000
DTSTAMP:20260423T135943
CREATED:20170706T025654Z
LAST-MODIFIED:20170706T025654Z
UID:3655-1780221600-1780228800@emmausbaptist.com
SUMMARY:Morning Worship Service
DESCRIPTION:
URL:https://emmausbaptist.com/event/morning-worship-service-2017-10-08-2026-05-31/
LOCATION:Emmaus Baptist Church\, 2104 Sandy Hook Road\, Goochland\, VA\, 23063\, United States
ATTACH;FMTTYPE=image/jpeg:https://emmausbaptist.com/wp-content/uploads/2017/07/images.jpg
END:VEVENT
BEGIN:VEVENT
DTSTART;TZID=UTC:20260606T090000
DTEND;TZID=UTC:20260606T110000
DTSTAMP:20260423T135943
CREATED:20170706T030306Z
LAST-MODIFIED:20170706T030306Z
UID:3656-1780736400-1780743600@emmausbaptist.com
SUMMARY:Choir Rehearsal
DESCRIPTION:
URL:https://emmausbaptist.com/event/choir-rehearsal-2026-06-06/
LOCATION:Emmaus Baptist Church\, 2104 Sandy Hook Road\, Goochland\, VA\, 23063\, United States
ATTACH;FMTTYPE=image/jpeg:https://emmausbaptist.com/wp-content/uploads/2017/07/download.jpg
END:VEVENT
BEGIN:VEVENT
DTSTART;TZID=UTC:20260607T100000
DTEND;TZID=UTC:20260607T120000
DTSTAMP:20260423T135943
CREATED:20170706T025654Z
LAST-MODIFIED:20170706T025654Z
UID:3657-1780826400-1780833600@emmausbaptist.com
SUMMARY:Morning Worship Service
DESCRIPTION:
URL:https://emmausbaptist.com/event/morning-worship-service-2017-10-08-2026-06-07/
LOCATION:Emmaus Baptist Church\, 2104 Sandy Hook Road\, Goochland\, VA\, 23063\, United States
ATTACH;FMTTYPE=image/jpeg:https://emmausbaptist.com/wp-content/uploads/2017/07/images.jpg
END:VEVENT
BEGIN:VEVENT
DTSTART;TZID=UTC:20260613T090000
DTEND;TZID=UTC:20260613T110000
DTSTAMP:20260423T135943
CREATED:20170706T030306Z
LAST-MODIFIED:20170706T030306Z
UID:3658-1781341200-1781348400@emmausbaptist.com
SUMMARY:Choir Rehearsal
DESCRIPTION:
URL:https://emmausbaptist.com/event/choir-rehearsal-2026-06-13/
LOCATION:Emmaus Baptist Church\, 2104 Sandy Hook Road\, Goochland\, VA\, 23063\, United States
ATTACH;FMTTYPE=image/jpeg:https://emmausbaptist.com/wp-content/uploads/2017/07/download.jpg
END:VEVENT
BEGIN:VEVENT
DTSTART;TZID=UTC:20260614T100000
DTEND;TZID=UTC:20260614T120000
DTSTAMP:20260423T135943
CREATED:20170706T025654Z
LAST-MODIFIED:20170706T025654Z
UID:3659-1781431200-1781438400@emmausbaptist.com
SUMMARY:Morning Worship Service
DESCRIPTION:
URL:https://emmausbaptist.com/event/morning-worship-service-2017-10-08-2026-06-14/
LOCATION:Emmaus Baptist Church\, 2104 Sandy Hook Road\, Goochland\, VA\, 23063\, United States
ATTACH;FMTTYPE=image/jpeg:https://emmausbaptist.com/wp-content/uploads/2017/07/images.jpg
END:VEVENT
BEGIN:VEVENT
DTSTART;TZID=UTC:20260620T090000
DTEND;TZID=UTC:20260620T110000
DTSTAMP:20260423T135943
CREATED:20170706T030306Z
LAST-MODIFIED:20170706T030306Z
UID:3660-1781946000-1781953200@emmausbaptist.com
SUMMARY:Choir Rehearsal
DESCRIPTION:
URL:https://emmausbaptist.com/event/choir-rehearsal-2026-06-20/
LOCATION:Emmaus Baptist Church\, 2104 Sandy Hook Road\, Goochland\, VA\, 23063\, United States
ATTACH;FMTTYPE=image/jpeg:https://emmausbaptist.com/wp-content/uploads/2017/07/download.jpg
END:VEVENT
BEGIN:VEVENT
DTSTART;TZID=UTC:20260621T100000
DTEND;TZID=UTC:20260621T120000
DTSTAMP:20260423T135943
CREATED:20170706T025654Z
LAST-MODIFIED:20170706T025654Z
UID:3661-1782036000-1782043200@emmausbaptist.com
SUMMARY:Morning Worship Service
DESCRIPTION:
URL:https://emmausbaptist.com/event/morning-worship-service-2017-10-08-2026-06-21/
LOCATION:Emmaus Baptist Church\, 2104 Sandy Hook Road\, Goochland\, VA\, 23063\, United States
ATTACH;FMTTYPE=image/jpeg:https://emmausbaptist.com/wp-content/uploads/2017/07/images.jpg
END:VEVENT
BEGIN:VEVENT
DTSTART;TZID=UTC:20260627T090000
DTEND;TZID=UTC:20260627T110000
DTSTAMP:20260423T135943
CREATED:20170706T030306Z
LAST-MODIFIED:20170706T030306Z
UID:3664-1782550800-1782558000@emmausbaptist.com
SUMMARY:Choir Rehearsal
DESCRIPTION:
URL:https://emmausbaptist.com/event/choir-rehearsal-2026-06-27/
LOCATION:Emmaus Baptist Church\, 2104 Sandy Hook Road\, Goochland\, VA\, 23063\, United States
ATTACH;FMTTYPE=image/jpeg:https://emmausbaptist.com/wp-content/uploads/2017/07/download.jpg
END:VEVENT
BEGIN:VEVENT
DTSTART;TZID=UTC:20260628T100000
DTEND;TZID=UTC:20260628T120000
DTSTAMP:20260423T135943
CREATED:20170706T025654Z
LAST-MODIFIED:20170706T025654Z
UID:3665-1782640800-1782648000@emmausbaptist.com
SUMMARY:Morning Worship Service
DESCRIPTION:
URL:https://emmausbaptist.com/event/morning-worship-service-2017-10-08-2026-06-28/
LOCATION:Emmaus Baptist Church\, 2104 Sandy Hook Road\, Goochland\, VA\, 23063\, United States
ATTACH;FMTTYPE=image/jpeg:https://emmausbaptist.com/wp-content/uploads/2017/07/images.jpg
END:VEVENT
BEGIN:VEVENT
DTSTART;TZID=UTC:20260704T090000
DTEND;TZID=UTC:20260704T110000
DTSTAMP:20260423T135943
CREATED:20170706T030306Z
LAST-MODIFIED:20170706T030306Z
UID:3669-1783155600-1783162800@emmausbaptist.com
SUMMARY:Choir Rehearsal
DESCRIPTION:
URL:https://emmausbaptist.com/event/choir-rehearsal-2026-07-04/
LOCATION:Emmaus Baptist Church\, 2104 Sandy Hook Road\, Goochland\, VA\, 23063\, United States
ATTACH;FMTTYPE=image/jpeg:https://emmausbaptist.com/wp-content/uploads/2017/07/download.jpg
END:VEVENT
BEGIN:VEVENT
DTSTART;TZID=UTC:20260705T100000
DTEND;TZID=UTC:20260705T120000
DTSTAMP:20260423T135943
CREATED:20170706T025654Z
LAST-MODIFIED:20170706T025654Z
UID:3670-1783245600-1783252800@emmausbaptist.com
SUMMARY:Morning Worship Service
DESCRIPTION:
URL:https://emmausbaptist.com/event/morning-worship-service-2017-10-08-2026-07-05/
LOCATION:Emmaus Baptist Church\, 2104 Sandy Hook Road\, Goochland\, VA\, 23063\, United States
ATTACH;FMTTYPE=image/jpeg:https://emmausbaptist.com/wp-content/uploads/2017/07/images.jpg
END:VEVENT
BEGIN:VEVENT
DTSTART;TZID=UTC:20260711T090000
DTEND;TZID=UTC:20260711T110000
DTSTAMP:20260423T135943
CREATED:20170706T030306Z
LAST-MODIFIED:20170706T030306Z
UID:3671-1783760400-1783767600@emmausbaptist.com
SUMMARY:Choir Rehearsal
DESCRIPTION:
URL:https://emmausbaptist.com/event/choir-rehearsal-2026-07-11/
LOCATION:Emmaus Baptist Church\, 2104 Sandy Hook Road\, Goochland\, VA\, 23063\, United States
ATTACH;FMTTYPE=image/jpeg:https://emmausbaptist.com/wp-content/uploads/2017/07/download.jpg
END:VEVENT
BEGIN:VEVENT
DTSTART;TZID=UTC:20260712T100000
DTEND;TZID=UTC:20260712T120000
DTSTAMP:20260423T135943
CREATED:20170706T025654Z
LAST-MODIFIED:20170706T025654Z
UID:3672-1783850400-1783857600@emmausbaptist.com
SUMMARY:Morning Worship Service
DESCRIPTION:
URL:https://emmausbaptist.com/event/morning-worship-service-2017-10-08-2026-07-12/
LOCATION:Emmaus Baptist Church\, 2104 Sandy Hook Road\, Goochland\, VA\, 23063\, United States
ATTACH;FMTTYPE=image/jpeg:https://emmausbaptist.com/wp-content/uploads/2017/07/images.jpg
END:VEVENT
BEGIN:VEVENT
DTSTART;TZID=UTC:20260718T090000
DTEND;TZID=UTC:20260718T110000
DTSTAMP:20260423T135943
CREATED:20170706T030306Z
LAST-MODIFIED:20170706T030306Z
UID:3673-1784365200-1784372400@emmausbaptist.com
SUMMARY:Choir Rehearsal
DESCRIPTION:
URL:https://emmausbaptist.com/event/choir-rehearsal-2026-07-18/
LOCATION:Emmaus Baptist Church\, 2104 Sandy Hook Road\, Goochland\, VA\, 23063\, United States
ATTACH;FMTTYPE=image/jpeg:https://emmausbaptist.com/wp-content/uploads/2017/07/download.jpg
END:VEVENT
BEGIN:VEVENT
DTSTART;TZID=UTC:20260719T100000
DTEND;TZID=UTC:20260719T120000
DTSTAMP:20260423T135943
CREATED:20170706T025654Z
LAST-MODIFIED:20170706T025654Z
UID:3674-1784455200-1784462400@emmausbaptist.com
SUMMARY:Morning Worship Service
DESCRIPTION:
URL:https://emmausbaptist.com/event/morning-worship-service-2017-10-08-2026-07-19/
LOCATION:Emmaus Baptist Church\, 2104 Sandy Hook Road\, Goochland\, VA\, 23063\, United States
ATTACH;FMTTYPE=image/jpeg:https://emmausbaptist.com/wp-content/uploads/2017/07/images.jpg
END:VEVENT
BEGIN:VEVENT
DTSTART;TZID=UTC:20260725T090000
DTEND;TZID=UTC:20260725T110000
DTSTAMP:20260423T135943
CREATED:20170706T030306Z
LAST-MODIFIED:20170706T030306Z
UID:3697-1784970000-1784977200@emmausbaptist.com
SUMMARY:Choir Rehearsal
DESCRIPTION:
URL:https://emmausbaptist.com/event/choir-rehearsal-2026-07-25/
LOCATION:Emmaus Baptist Church\, 2104 Sandy Hook Road\, Goochland\, VA\, 23063\, United States
ATTACH;FMTTYPE=image/jpeg:https://emmausbaptist.com/wp-content/uploads/2017/07/download.jpg
END:VEVENT
BEGIN:VEVENT
DTSTART;TZID=UTC:20260726T100000
DTEND;TZID=UTC:20260726T120000
DTSTAMP:20260423T135943
CREATED:20170706T025654Z
LAST-MODIFIED:20170706T025654Z
UID:3698-1785060000-1785067200@emmausbaptist.com
SUMMARY:Morning Worship Service
DESCRIPTION:
URL:https://emmausbaptist.com/event/morning-worship-service-2017-10-08-2026-07-26/
LOCATION:Emmaus Baptist Church\, 2104 Sandy Hook Road\, Goochland\, VA\, 23063\, United States
ATTACH;FMTTYPE=image/jpeg:https://emmausbaptist.com/wp-content/uploads/2017/07/images.jpg
END:VEVENT
BEGIN:VEVENT
DTSTART;TZID=UTC:20260801T090000
DTEND;TZID=UTC:20260801T110000
DTSTAMP:20260423T135943
CREATED:20170706T030306Z
LAST-MODIFIED:20170706T030306Z
UID:3699-1785574800-1785582000@emmausbaptist.com
SUMMARY:Choir Rehearsal
DESCRIPTION:
URL:https://emmausbaptist.com/event/choir-rehearsal-2026-08-01/
LOCATION:Emmaus Baptist Church\, 2104 Sandy Hook Road\, Goochland\, VA\, 23063\, United States
ATTACH;FMTTYPE=image/jpeg:https://emmausbaptist.com/wp-content/uploads/2017/07/download.jpg
END:VEVENT
BEGIN:VEVENT
DTSTART;TZID=UTC:20260802T100000
DTEND;TZID=UTC:20260802T120000
DTSTAMP:20260423T135943
CREATED:20170706T025654Z
LAST-MODIFIED:20170706T025654Z
UID:3700-1785664800-1785672000@emmausbaptist.com
SUMMARY:Morning Worship Service
DESCRIPTION:
URL:https://emmausbaptist.com/event/morning-worship-service-2017-10-08-2026-08-02/
LOCATION:Emmaus Baptist Church\, 2104 Sandy Hook Road\, Goochland\, VA\, 23063\, United States
ATTACH;FMTTYPE=image/jpeg:https://emmausbaptist.com/wp-content/uploads/2017/07/images.jpg
END:VEVENT
END:VCALENDAR